{"text_format":"1","workbook":"xlsx","n_sheets":2,"sheets":["参加リスト","Sheet3"],"not_rendered":{"charts":0,"images":0,"macros":0,"external_links":0,"defined_names":0,"comments":0,"pivot_tables":0},"unopened":[],"bounds":{"document_bytes":16777216,"sheet_cells":100000,"rows_first":2000,"rows_last":500,"rows_between":2000,"halvings":0,"cell_chars":16384,"cell_head_chars":4096},"cells_cut":0,"cells_raw":0,"read":"whole","date_system":"1900"}

{"sheet":"参加リスト","index":0,"n_rows":58,"n_cols":12,"rows_kept":58,"cut":false,"hidden":false,"merged":[[0,4,0,5],[0,6,0,8],[0,0,0,1],[1,0,1,1],[2,0,2,1],[5,0,5,2],[3,0,3,1],[2,4,2,5],[1,4,1,5],[2,6,2,8],[1,6,1,8],[4,3,4,11],[5,3,5,11]]}
["団体名",null,null,null,null,null,"氏　　　名",null,null,"全柔連登録番号","指導者資格"]
["責任者",null,null,null,"コーチ①"]
["連絡先（電話番号）",null,null,null,"コーチ②"]
["連絡先（ﾒｰﾙｱﾄﾞﾚｽ）",null,null,null,"※大会当日に試合場フロアでコーチする者"]
[null,null,null,"中学１年生の部の３ブロック制・中学２年生の部の２ブロック制について"]
[" 　欄は自動入力\nリストは9行目から入力してください",null,null,"●各団体で中学１年生が３名以上いる場合は、Ａ・Ｂ・Ｃに人数を３等分して申し込む。但し、４名以上の場合は組み合わせ作成時にいずれに入れてもよい者１～２名をＯとする。［例：中学１年生が７名の場合、Ａを２名、Ｂを２名、Ｃを２名、Ｏを１名で申し込む］\n●各団体で中学２年生が２名以上いる場合は、Ａ・Ｂに人数を２等分して申し込む。但し、奇数の場合は組み合わせ作成時にどちらに入れてもよい者１名をＯとする。［例：中学２年生が７名いる場合、Ａを３名、Ｂを３名、Ｏを１名で申し込む］\n●Ａ・Ｂ・Ｃ・Ｏは便宜的に分けるだけで、選手の優劣とは無関係である。"]
["番号","全柔連\n登録番号","氏名","フリガナ\n（半角ｶﾀｶﾅ）","生年月日","年齢","身長\n（ｃｍ）","体重\n（ｋｇ）","試合区分","緊急連絡先\n電話番号","所属","壮年の部 段位"]
["例",500000000,"横浜　太郎","ﾖｺﾊﾏ ﾀﾛｳ","2020-10-10","20230401\n時点",180.5,83.4,"リストから選択","999-9999-9999","自動入力","リストから"]
[{"$f":"IF(B9=\"\",\"\",1)","v":""},null,null,null,null,{"$f":"IF(E9=\"\",\"\",DATEDIF(E9,Sheet3!$B$1,\"y\"))","v":""},null,null,null,null,{"$f":"IF(B9=\"\",\"\",$C$1)","v":""}]
[{"$f":"IF(B10=\"\",\"\",A9+1)","v":""},null,null,null,null,{"$f":"IF(E10=\"\",\"\",DATEDIF(E10,Sheet3!$B$1,\"y\"))","v":""},null,null,null,null,""]
[{"$f":"IF(B11=\"\",\"\",A10+1)","v":""},null,null,null,null,{"$f":"IF(E11=\"\",\"\",DATEDIF(E11,Sheet3!$B$1,\"y\"))","v":""},null,null,null,null,""]
["",null,null,null,null,{"$f":"IF(E12=\"\",\"\",DATEDIF(E12,Sheet3!$B$1,\"y\"))","v":""},null,null,null,null,""]
["",null,null,null,null,{"$f":"IF(E13=\"\",\"\",DATEDIF(E13,Sheet3!$B$1,\"y\"))","v":""},null,null,null,null,""]
["",null,null,null,null,{"$f":"IF(E14=\"\",\"\",DATEDIF(E14,Sheet3!$B$1,\"y\"))","v":""},null,null,null,null,""]
["",null,null,null,null,{"$f":"IF(E15=\"\",\"\",DATEDIF(E15,Sheet3!$B$1,\"y\"))","v":""},null,null,null,null,""]
["",null,null,null,null,{"$f":"IF(E16=\"\",\"\",DATEDIF(E16,Sheet3!$B$1,\"y\"))","v":""},null,null,null,null,""]
["",null,null,null,null,{"$f":"IF(E17=\"\",\"\",DATEDIF(E17,Sheet3!$B$1,\"y\"))","v":""},null,null,null,null,""]
["",null,null,null,null,{"$f":"IF(E18=\"\",\"\",DATEDIF(E18,Sheet3!$B$1,\"y\"))","v":""},null,null,null,null,""]
["",null,null,null,null,{"$f":"IF(E19=\"\",\"\",DATEDIF(E19,Sheet3!$B$1,\"y\"))","v":""},null,null,null,null,""]
["",null,null,null,null,{"$f":"IF(E20=\"\",\"\",DATEDIF(E20,Sheet3!$B$1,\"y\"))","v":""},null,null,null,null,""]
["",null,null,null,null,{"$f":"IF(E21=\"\",\"\",DATEDIF(E21,Sheet3!$B$1,\"y\"))","v":""},null,null,null,null,""]
["",null,null,null,null,{"$f":"IF(E22=\"\",\"\",DATEDIF(E22,Sheet3!$B$1,\"y\"))","v":""},null,null,null,null,""]
["",null,null,null,null,{"$f":"IF(E23=\"\",\"\",DATEDIF(E23,Sheet3!$B$1,\"y\"))","v":""},null,null,null,null,""]
["",null,null,null,null,{"$f":"IF(E24=\"\",\"\",DATEDIF(E24,Sheet3!$B$1,\"y\"))","v":""},null,null,null,null,""]
["",null,null,null,null,{"$f":"IF(E25=\"\",\"\",DATEDIF(E25,Sheet3!$B$1,\"y\"))","v":""},null,null,null,null,""]
["",null,null,null,null,{"$f":"IF(E26=\"\",\"\",DATEDIF(E26,Sheet3!$B$1,\"y\"))","v":""},null,null,null,null,""]
["",null,null,null,null,{"$f":"IF(E27=\"\",\"\",DATEDIF(E27,Sheet3!$B$1,\"y\"))","v":""},null,null,null,null,""]
["",null,null,null,null,{"$f":"IF(E28=\"\",\"\",DATEDIF(E28,Sheet3!$B$1,\"y\"))","v":""},null,null,null,null,""]
["",null,null,null,null,{"$f":"IF(E29=\"\",\"\",DATEDIF(E29,Sheet3!$B$1,\"y\"))","v":""},null,null,null,null,""]
["",null,null,null,null,{"$f":"IF(E30=\"\",\"\",DATEDIF(E30,Sheet3!$B$1,\"y\"))","v":""},null,null,null,null,""]
["",null,null,null,null,{"$f":"IF(E31=\"\",\"\",DATEDIF(E31,Sheet3!$B$1,\"y\"))","v":""},null,null,null,null,""]
["",null,null,null,null,{"$f":"IF(E32=\"\",\"\",DATEDIF(E32,Sheet3!$B$1,\"y\"))","v":""},null,null,null,null,""]
["",null,null,null,null,{"$f":"IF(E33=\"\",\"\",DATEDIF(E33,Sheet3!$B$1,\"y\"))","v":""},null,null,null,null,""]
["",null,null,null,null,{"$f":"IF(E34=\"\",\"\",DATEDIF(E34,Sheet3!$B$1,\"y\"))","v":""},null,null,null,null,""]
["",null,null,null,null,{"$f":"IF(E35=\"\",\"\",DATEDIF(E35,Sheet3!$B$1,\"y\"))","v":""},null,null,null,null,""]
["",null,null,null,null,{"$f":"IF(E36=\"\",\"\",DATEDIF(E36,Sheet3!$B$1,\"y\"))","v":""},null,null,null,null,""]
["",null,null,null,null,{"$f":"IF(E37=\"\",\"\",DATEDIF(E37,Sheet3!$B$1,\"y\"))","v":""},null,null,null,null,""]
["",null,null,null,null,{"$f":"IF(E38=\"\",\"\",DATEDIF(E38,Sheet3!$B$1,\"y\"))","v":""},null,null,null,null,""]
["",null,null,null,null,{"$f":"IF(E39=\"\",\"\",DATEDIF(E39,Sheet3!$B$1,\"y\"))","v":""},null,null,null,null,""]
["",null,null,null,null,{"$f":"IF(E40=\"\",\"\",DATEDIF(E40,Sheet3!$B$1,\"y\"))","v":""},null,null,null,null,""]
["",null,null,null,null,{"$f":"IF(E41=\"\",\"\",DATEDIF(E41,Sheet3!$B$1,\"y\"))","v":""},null,null,null,null,{"$f":"IF(B41=\"\",\"\",$C$1)","v":""}]
["",null,null,null,null,{"$f":"IF(E42=\"\",\"\",DATEDIF(E42,Sheet3!$B$1,\"y\"))","v":""},null,null,null,null,""]
["",null,null,null,null,{"$f":"IF(E43=\"\",\"\",DATEDIF(E43,Sheet3!$B$1,\"y\"))","v":""},null,null,null,null,""]
["",null,null,null,null,{"$f":"IF(E44=\"\",\"\",DATEDIF(E44,Sheet3!$B$1,\"y\"))","v":""},null,null,null,null,""]
["",null,null,null,null,{"$f":"IF(E45=\"\",\"\",DATEDIF(E45,Sheet3!$B$1,\"y\"))","v":""},null,null,null,null,""]
["",null,null,null,null,{"$f":"IF(E46=\"\",\"\",DATEDIF(E46,Sheet3!$B$1,\"y\"))","v":""},null,null,null,null,""]
["",null,null,null,null,{"$f":"IF(E47=\"\",\"\",DATEDIF(E47,Sheet3!$B$1,\"y\"))","v":""},null,null,null,null,""]
["",null,null,null,null,{"$f":"IF(E48=\"\",\"\",DATEDIF(E48,Sheet3!$B$1,\"y\"))","v":""},null,null,null,null,""]
["",null,null,null,null,{"$f":"IF(E49=\"\",\"\",DATEDIF(E49,Sheet3!$B$1,\"y\"))","v":""},null,null,null,null,""]
["",null,null,null,null,{"$f":"IF(E50=\"\",\"\",DATEDIF(E50,Sheet3!$B$1,\"y\"))","v":""},null,null,null,null,""]
["",null,null,null,null,{"$f":"IF(E51=\"\",\"\",DATEDIF(E51,Sheet3!$B$1,\"y\"))","v":""},null,null,null,null,""]
["",null,null,null,null,{"$f":"IF(E52=\"\",\"\",DATEDIF(E52,Sheet3!$B$1,\"y\"))","v":""},null,null,null,null,""]
["",null,null,null,null,{"$f":"IF(E53=\"\",\"\",DATEDIF(E53,Sheet3!$B$1,\"y\"))","v":""},null,null,null,null,""]
["",null,null,null,null,{"$f":"IF(E54=\"\",\"\",DATEDIF(E54,Sheet3!$B$1,\"y\"))","v":""},null,null,null,null,""]
["",null,null,null,null,{"$f":"IF(E55=\"\",\"\",DATEDIF(E55,Sheet3!$B$1,\"y\"))","v":""},null,null,null,null,""]
["",null,null,null,null,{"$f":"IF(E56=\"\",\"\",DATEDIF(E56,Sheet3!$B$1,\"y\"))","v":""},null,null,null,null,""]
["",null,null,null,null,{"$f":"IF(E57=\"\",\"\",DATEDIF(E57,Sheet3!$B$1,\"y\"))","v":""},null,null,null,null,""]
["",null,null,null,null,{"$f":"IF(E58=\"\",\"\",DATEDIF(E58,Sheet3!$B$1,\"y\"))","v":""},null,null,null,null,""]

{"sheet":"Sheet3","index":1,"n_rows":36,"n_cols":2,"rows_kept":36,"cut":false,"hidden":true,"merged":[]}
["開催日","2023-04-01"]
[]
[]
[]
["中学１年生の部 (Ａ)"]
["中学１年生の部 (Ｂ)"]
["中学１年生の部 (Ｃ)"]
["中学１年生の部 (Ｏ)"]
["中学２年生の部 (Ａ)"]
["中学２年生の部 (Ｂ)"]
["中学２年生の部 (Ｏ)"]
["中学３年生の部"]
["一般無段の部"]
["一級の部"]
["初段の部"]
["弐段の部"]
["参段の部"]
["四段の部"]
["壮年の部"]
[]
[]
["A指導員"]
["B指導員"]
["C指導員"]
["準指導員"]
["学校顧問特例資格"]
["教員"]
[]
[]
["無段"]
["一級"]
["初段"]
["弐段"]
["参段"]
["四段"]
["五段"]